BEGIN:VCALENDAR
VERSION:2.0
PRODID:-//Providence City Council - ECPv4.9.13//NONSGML v1.0//EN
CALSCALE:GREGORIAN
METHOD:PUBLISH
X-WR-CALNAME:Providence City Council
X-ORIGINAL-URL:https://citycouncil.ebonitestudios.com
X-WR-CALDESC:Events for Providence City Council
BEGIN:VTIMEZONE
TZID:UTC
BEGIN:STANDARD
TZOFFSETFROM:+0000
TZOFFSETTO:+0000
TZNAME:UTC
DTSTART:20190101T000000
END:STANDARD
END:VTIMEZONE
BEGIN:VEVENT
DTSTART;TZID=UTC:20191114T180000
DTEND;TZID=UTC:20191114T200000
DTSTAMP:20260419T144627
CREATED:20191113T145815Z
LAST-MODIFIED:20191113T145815Z
UID:498-1573754400-1573761600@citycouncil.ebonitestudios.com
SUMMARY:Ward 4 Annual Food Drive
DESCRIPTION:Join Senior Deputy Majority Leader Nicholas J. Narducci Jr. for his annual Ward 4 Food Drive. Drop off non-perishable items\, and stop in for a snack and a drink.  If you are in need of a basket this Thanksgiving season\, please call our office at 401-521-7477 and let them know. \n
URL:https://citycouncil.ebonitestudios.com/event/ward-4-annual-food-drive/
LOCATION:20 Dorothy Avenue\, 20 Dorothy Avenue\, Providence\, Rhode Island\, 02904
END:VEVENT
END:VCALENDAR